View In:
ArcGIS JavaScript
ArcGIS Online Map Viewer
ArcGIS Earth
ArcMap
View Footprint In:
ArcGIS Online Map Viewer
Service Description: DASHBOARD_MUO/Kesesuaian_Tanah_Raster
Name: DASHBOARD_MUO/Kesesuaian_Tanah_Raster
Description:
Single Fused Map Cache: false
Extent:
XMin: 99.63890386981696
YMin: 1.2263793609264626
XMax: 115.36109935234317
YMax: 6.72649825704822
Spatial Reference: 4326
(4326)
Initial Extent:
XMin: 99.63890386981696
YMin: 1.2263793609264626
XMax: 115.36109935234317
YMax: 6.72649825704822
Spatial Reference: 4326
(4326)
Full Extent:
XMin: 99.63890386981696
YMin: 1.2263793609264626
XMax: 115.36109935234317
YMax: 6.72649825704822
Spatial Reference: 4326
(4326)
Pixel Size X: 9.073708090474063E-5
Pixel Size Y: 9.073708090474063E-5
Band Count: 1
Pixel Type: U4
RasterFunction Infos: {"rasterFunctionInfos": [{
"name": "None",
"description": "",
"help": ""
}]}
Mensuration Capabilities: Basic
Has Histograms: true
Has Colormap: false
Has Multi Dimensions : false
Rendering Rule:
Min Scale: 0
Max Scale: 0
Copyright Text:
Service Data Type: esriImageServiceDataTypeThematic
Min Values: 1
Max Values: 3
Mean Values: 1.2499567257914237
Standard Deviation Values: 0.6309952527062883
Object ID Field:
Fields:
None
Default Mosaic Method: Center
Allowed Mosaic Methods:
SortField:
SortValue: null
Mosaic Operator: First
Default Compression Quality: 75
Default Resampling Method: Bilinear
Max Record Count: null
Max Image Height: 4100
Max Image Width: 15000
Max Download Image Count: null
Max Mosaic Image Count: null
Allow Raster Function: true
Allow Copy: true
Allow Analysis: true
Allow Compute TiePoints: false
Supports Statistics: false
Supports Advanced Queries: false
Use StandardizedQueries: true
Raster Type Infos:
Name: Raster Dataset
Description: Supports all ArcGIS Raster Datasets
Help:
Has Raster Attribute Table: true
Edit Fields Info: null
Ownership Based AccessControl For Rasters: null
Child Resources:
Info
Raster Attribute Table
Histograms
Statistics
Key Properties
Legend
Raster Function Infos
Supported Operations:
Export Image
Identify
Measure
Compute Histograms
Compute Statistics Histograms
Get Samples
Compute Class Statistics
Query Boundary
Compute Pixel Location
Compute Angles
Validate
Project