View In:
ArcGIS JavaScript
ArcGIS Online Map Viewer
ArcGIS Earth
ArcMap
View Footprint In:
ArcGIS Online Map Viewer
Service Description: DENGUE/DBO_Kes_Denggi_300meter
Name: DENGUE/DBO_Kes_Denggi_300meter
Description:
Single Fused Map Cache: false
Extent:
XMin: 1.1526278529887723E7
YMin: 153590.8295166566
XMax: 1.1580544861716144E7
YMax: 186281.39085907873
Spatial Reference: 102100
(3857)
Initial Extent:
XMin: 1.1526278529887723E7
YMin: 153590.8295166566
XMax: 1.1580544861716144E7
YMax: 186281.39085907873
Spatial Reference: 102100
(3857)
Full Extent:
XMin: 1.1526278529887723E7
YMin: 153590.8295166566
XMax: 1.1580544861716144E7
YMax: 186281.39085907873
Spatial Reference: 102100
(3857)
Pixel Size X: 130.7622453696891
Pixel Size Y: 130.7622453696885
Band Count: 1
Pixel Type: F32
RasterFunction Infos: {"rasterFunctionInfos": [{
"name": "None",
"description": "",
"help": ""
}]}
Mensuration Capabilities: Basic
Has Histograms: true
Has Colormap: false
Has Multi Dimensions : false
Rendering Rule:
Min Scale: 0
Max Scale: 0
Copyright Text:
Service Data Type: esriImageServiceDataTypeGeneric
Min Values: 0
Max Values: 37.28559112548828
Mean Values: 0.2988672946555191
Standard Deviation Values: 1.5946030638890216
Object ID Field:
Fields:
None
Default Mosaic Method: Center
Allowed Mosaic Methods:
SortField:
SortValue: null
Mosaic Operator: First
Default Compression Quality: 75
Default Resampling Method: Bilinear
Max Record Count: null
Max Image Height: 4100
Max Image Width: 15000
Max Download Image Count: null
Max Mosaic Image Count: null
Allow Raster Function: true
Allow Copy: true
Allow Analysis: true
Allow Compute TiePoints: false
Supports Statistics: false
Supports Advanced Queries: false
Use StandardizedQueries: true
Raster Type Infos:
Name: Raster Dataset
Description: Supports all ArcGIS Raster Datasets
Help:
Has Raster Attribute Table: false
Edit Fields Info: null
Ownership Based AccessControl For Rasters: null
Child Resources:
Info
Histograms
Statistics
Key Properties
Legend
Raster Function Infos
Supported Operations:
Export Image
Identify
Measure
Compute Histograms
Compute Statistics Histograms
Get Samples
Compute Class Statistics
Query Boundary
Compute Pixel Location
Compute Angles
Validate
Project