View In:
ArcGIS JavaScript
ArcGIS Online Map Viewer
ArcGIS Earth
ArcMap
View Footprint In:
ArcGIS Online Map Viewer
Service Description: GREEN_SPACES/LST_MBPP_2023
Name: GREEN_SPACES/LST_MBPP_2023
Description:
Single Fused Map Cache: false
Extent:
XMin: 1.115144556005869E7
YMin: 582374.2550676698
XMax: 1.117052556005869E7
YMax: 611324.2550676698
Spatial Reference: 102100
(3857)
Initial Extent:
XMin: 1.115144556005869E7
YMin: 582374.2550676698
XMax: 1.117052556005869E7
YMax: 611324.2550676698
Spatial Reference: 102100
(3857)
Full Extent:
XMin: 1.115144556005869E7
YMin: 582374.2550676698
XMax: 1.117052556005869E7
YMax: 611324.2550676698
Spatial Reference: 102100
(3857)
Pixel Size X: 30.0
Pixel Size Y: 30.0
Band Count: 1
Pixel Type: F32
RasterFunction Infos: {"rasterFunctionInfos": [{
"name": "None",
"description": "",
"help": ""
}]}
Mensuration Capabilities: Basic
Has Histograms: true
Has Colormap: false
Has Multi Dimensions : false
Rendering Rule:
Min Scale: 0
Max Scale: 0
Copyright Text:
Service Data Type: esriImageServiceDataTypeGeneric
Min Values: 20.024532318115234
Max Values: 33.60801696777344
Mean Values: 25.467631303323497
Standard Deviation Values: 2.7027525916441424
Object ID Field:
Fields:
None
Default Mosaic Method: Center
Allowed Mosaic Methods:
SortField:
SortValue: null
Mosaic Operator: First
Default Compression Quality: 75
Default Resampling Method: Bilinear
Max Record Count: null
Max Image Height: 4100
Max Image Width: 15000
Max Download Image Count: null
Max Mosaic Image Count: null
Allow Raster Function: true
Allow Copy: true
Allow Analysis: true
Allow Compute TiePoints: false
Supports Statistics: false
Supports Advanced Queries: false
Use StandardizedQueries: true
Raster Type Infos:
Name: Raster Dataset
Description: Supports all ArcGIS Raster Datasets
Help:
Has Raster Attribute Table: false
Edit Fields Info: null
Ownership Based AccessControl For Rasters: null
Child Resources:
Info
Histograms
Statistics
Key Properties
Legend
Raster Function Infos
Supported Operations:
Export Image
Identify
Measure
Compute Histograms
Compute Statistics Histograms
Get Samples
Compute Class Statistics
Query Boundary
Compute Pixel Location
Compute Angles
Validate
Project