View In:
ArcGIS JavaScript
ArcGIS Online Map Viewer
ArcGIS Earth
ArcMap
View Footprint In:
ArcGIS Online Map Viewer
Service Description: LCI_POC/Pendidikan_POC
Name: LCI_POC/Pendidikan_POC
Description:
Single Fused Map Cache: false
Extent:
XMin: 1.13239663493E7
YMin: 266246.81120000035
XMax: 1.1431798808655199E7
YMax: 348940.4149999991
Spatial Reference: 102100
(3857)
Initial Extent:
XMin: 1.13239663493E7
YMin: 266246.81120000035
XMax: 1.1431798808655199E7
YMax: 348940.4149999991
Spatial Reference: 102100
(3857)
Full Extent:
XMin: 1.13239663493E7
YMin: 266246.81120000035
XMax: 1.1431798808655199E7
YMax: 348940.4149999991
Spatial Reference: 102100
(3857)
Pixel Size X: 330.77441519999337
Pixel Size Y: 330.774415199995
Band Count: 1
Pixel Type: U16
RasterFunction Infos: {"rasterFunctionInfos": [{
"name": "None",
"description": "",
"help": ""
}]}
Mensuration Capabilities: Basic
Has Histograms: true
Has Colormap: false
Has Multi Dimensions : false
Rendering Rule:
Min Scale: 0
Max Scale: 0
Copyright Text:
Service Data Type: esriImageServiceDataTypeGeneric
Min Values: 1000
Max Values: 2000
Mean Values: 1467.65451525483
Standard Deviation Values: 415.6616316242962
Object ID Field:
Fields:
None
Default Mosaic Method: Center
Allowed Mosaic Methods:
SortField:
SortValue: null
Mosaic Operator: First
Default Compression Quality: 75
Default Resampling Method: Bilinear
Max Record Count: null
Max Image Height: 4100
Max Image Width: 15000
Max Download Image Count: null
Max Mosaic Image Count: null
Allow Raster Function: true
Allow Copy: true
Allow Analysis: true
Allow Compute TiePoints: false
Supports Statistics: false
Supports Advanced Queries: false
Use StandardizedQueries: true
Raster Type Infos:
Name: Raster Dataset
Description: Supports all ArcGIS Raster Datasets
Help:
Has Raster Attribute Table: true
Edit Fields Info: null
Ownership Based AccessControl For Rasters: null
Child Resources:
Info
Raster Attribute Table
Histograms
Statistics
Key Properties
Legend
Raster Function Infos
Supported Operations:
Export Image
Identify
Measure
Compute Histograms
Compute Statistics Histograms
Get Samples
Compute Class Statistics
Query Boundary
Compute Pixel Location
Compute Angles
Validate
Project