View In:
ArcGIS JavaScript
ArcGIS Online Map Viewer
ArcGIS Earth
ArcMap
View Footprint In:
ArcGIS Online Map Viewer
Service Description: LCI_POC/Pengangkutan_POC
Name: LCI_POC/Pengangkutan_POC
Description:
Single Fused Map Cache: false
Extent:
XMin: 1.1321506263999999E7
YMin: 266246.81120000035
XMax: 1.1432775365312798E7
YMax: 365950.30700000003
Spatial Reference: 102100
(3857)
Initial Extent:
XMin: 1.1321506263999999E7
YMin: 266246.81120000035
XMax: 1.1432775365312798E7
YMax: 365950.30700000003
Spatial Reference: 102100
(3857)
Full Extent:
XMin: 1.1321506263999999E7
YMin: 266246.81120000035
XMax: 1.1432775365312798E7
YMax: 365950.30700000003
Spatial Reference: 102100
(3857)
Pixel Size X: 398.8139831999978
Pixel Size Y: 398.81398319999875
Band Count: 1
Pixel Type: U16
RasterFunction Infos: {"rasterFunctionInfos": [{
"name": "None",
"description": "",
"help": ""
}]}
Mensuration Capabilities: Basic
Has Histograms: true
Has Colormap: false
Has Multi Dimensions : false
Rendering Rule:
Min Scale: 0
Max Scale: 0
Copyright Text:
Service Data Type: esriImageServiceDataTypeGeneric
Min Values: 5000
Max Values: 15000
Mean Values: 5306.907489821039
Standard Deviation Values: 1285.8586192374437
Object ID Field:
Fields:
None
Default Mosaic Method: Center
Allowed Mosaic Methods:
SortField:
SortValue: null
Mosaic Operator: First
Default Compression Quality: 75
Default Resampling Method: Bilinear
Max Record Count: null
Max Image Height: 4100
Max Image Width: 15000
Max Download Image Count: null
Max Mosaic Image Count: null
Allow Raster Function: true
Allow Copy: true
Allow Analysis: true
Allow Compute TiePoints: false
Supports Statistics: false
Supports Advanced Queries: false
Use StandardizedQueries: true
Raster Type Infos:
Name: Raster Dataset
Description: Supports all ArcGIS Raster Datasets
Help:
Has Raster Attribute Table: true
Edit Fields Info: null
Ownership Based AccessControl For Rasters: null
Child Resources:
Info
Raster Attribute Table
Histograms
Statistics
Key Properties
Legend
Raster Function Infos
Supported Operations:
Export Image
Identify
Measure
Compute Histograms
Compute Statistics Histograms
Get Samples
Compute Class Statistics
Query Boundary
Compute Pixel Location
Compute Angles
Validate
Project