View In:
ArcGIS JavaScript
ArcGIS Online Map Viewer
ArcGIS Earth
ArcMap
View Footprint In:
ArcGIS Online Map Viewer
Service Description: LCI_POC/WeightedOverlay_LCI
Name: LCI_POC/WeightedOverlay_LCI
Description:
Single Fused Map Cache: false
Extent:
XMin: 1.13256611879E7
YMin: 266246.81120000035
XMax: 1.14257634976832E7
YMax: 337634.5141927999
Spatial Reference: 102100
(3857)
Initial Extent:
XMin: 1.13256611879E7
YMin: 266246.81120000035
XMax: 1.14257634976832E7
YMax: 337634.5141927999
Spatial Reference: 102100
(3857)
Full Extent:
XMin: 1.13256611879E7
YMin: 266246.81120000035
XMax: 1.14257634976832E7
YMax: 337634.5141927999
Spatial Reference: 102100
(3857)
Pixel Size X: 398.8139831999992
Pixel Size Y: 398.8139831999976
Band Count: 1
Pixel Type: S8
RasterFunction Infos: {"rasterFunctionInfos": [{
"name": "None",
"description": "",
"help": ""
}]}
Mensuration Capabilities: Basic
Has Histograms: true
Has Colormap: false
Has Multi Dimensions : false
Rendering Rule:
Min Scale: 0
Max Scale: 0
Copyright Text:
Service Data Type: esriImageServiceDataTypeGeneric
Min Values: 1
Max Values: 2
Mean Values: 1.4968494013862634
Standard Deviation Values: 0.5000294599841223
Object ID Field:
Fields:
None
Default Mosaic Method: Center
Allowed Mosaic Methods:
SortField:
SortValue: null
Mosaic Operator: First
Default Compression Quality: 75
Default Resampling Method: Bilinear
Max Record Count: null
Max Image Height: 4100
Max Image Width: 15000
Max Download Image Count: null
Max Mosaic Image Count: null
Allow Raster Function: true
Allow Copy: true
Allow Analysis: true
Allow Compute TiePoints: false
Supports Statistics: false
Supports Advanced Queries: false
Use StandardizedQueries: true
Raster Type Infos:
Name: Raster Dataset
Description: Supports all ArcGIS Raster Datasets
Help:
Has Raster Attribute Table: true
Edit Fields Info: null
Ownership Based AccessControl For Rasters: null
Child Resources:
Info
Raster Attribute Table
Histograms
Statistics
Key Properties
Legend
Raster Function Infos
Supported Operations:
Export Image
Identify
Measure
Compute Histograms
Compute Statistics Histograms
Get Samples
Compute Class Statistics
Query Boundary
Compute Pixel Location
Compute Angles
Validate
Project