View In:
ArcGIS JavaScript
ArcGIS Online Map Viewer
ArcGIS Earth
ArcMap
View Footprint In:
ArcGIS Online Map Viewer
Service Description: NSCP_PPj/HeatMap_hotel_24
Name: NSCP_PPj/HeatMap_hotel_24
Description:
Single Fused Map Cache: false
Extent:
XMin: 101.65949545614986
YMin: 2.8760390063608208
XMax: 101.73278186733052
YMax: 2.983330312329308
Spatial Reference: 4326
(4326)
Initial Extent:
XMin: 101.65949545614986
YMin: 2.8760390063608208
XMax: 101.73278186733052
YMax: 2.983330312329308
Spatial Reference: 4326
(4326)
Full Extent:
XMin: 101.65949545614986
YMin: 2.8760390063608208
XMax: 101.73278186733052
YMax: 2.983330312329308
Spatial Reference: 4326
(4326)
Pixel Size X: 2.931456447226424E-4
Pixel Size Y: 2.931456447226421E-4
Band Count: 1
Pixel Type: F32
RasterFunction Infos: {"rasterFunctionInfos": [{
"name": "None",
"description": "",
"help": ""
}]}
Mensuration Capabilities: Basic
Has Histograms: true
Has Colormap: false
Has Multi Dimensions : false
Rendering Rule:
Min Scale: 0
Max Scale: 0
Copyright Text:
Service Data Type: esriImageServiceDataTypeGeneric
Min Values: 0
Max Values: 2746586624
Mean Values: 1.4671472255487508E8
Standard Deviation Values: 4.0325195395676607E8
Object ID Field:
Fields:
None
Default Mosaic Method: Center
Allowed Mosaic Methods:
SortField:
SortValue: null
Mosaic Operator: First
Default Compression Quality: 75
Default Resampling Method: Bilinear
Max Record Count: null
Max Image Height: 4100
Max Image Width: 15000
Max Download Image Count: null
Max Mosaic Image Count: null
Allow Raster Function: true
Allow Copy: true
Allow Analysis: true
Allow Compute TiePoints: false
Supports Statistics: false
Supports Advanced Queries: false
Use StandardizedQueries: true
Raster Type Infos:
Name: Raster Dataset
Description: Supports all ArcGIS Raster Datasets
Help:
Has Raster Attribute Table: false
Edit Fields Info: null
Ownership Based AccessControl For Rasters: null
Child Resources:
Info
Histograms
Statistics
Key Properties
Legend
Raster Function Infos
Supported Operations:
Export Image
Identify
Measure
Compute Histograms
Compute Statistics Histograms
Get Samples
Compute Class Statistics
Query Boundary
Compute Pixel Location
Compute Angles
Validate
Project