View In:
ArcGIS JavaScript
ArcGIS Online Map Viewer
ArcGIS Earth
ArcMap
View Footprint In:
ArcGIS Online Map Viewer
Service Description: NSCP_PPj/KernelKekerasan2016
Name: NSCP_PPj/KernelKekerasan2016
Description:
Single Fused Map Cache: false
Extent:
XMin: 99.63990993300007
YMin: 0.8556368450007668
XMax: 119.26990993295433
YMax: 7.379636845000049
Spatial Reference: 4326
(4326)
Initial Extent:
XMin: 99.63990993300007
YMin: 0.8556368450007668
XMax: 119.26990993295433
YMax: 7.379636845000049
Spatial Reference: 4326
(4326)
Full Extent:
XMin: 99.63990993300007
YMin: 0.8556368450007668
XMax: 119.26990993295433
YMax: 7.379636845000049
Spatial Reference: 4326
(4326)
Pixel Size X: 0.00199999999999534
Pixel Size Y: 0.00199999999999978
Band Count: 1
Pixel Type: F32
RasterFunction Infos: {"rasterFunctionInfos": [{
"name": "None",
"description": "",
"help": ""
}]}
Mensuration Capabilities: Basic
Has Histograms: true
Has Colormap: false
Has Multi Dimensions : false
Rendering Rule:
Min Scale: 0
Max Scale: 0
Copyright Text:
Service Data Type: esriImageServiceDataTypeGeneric
Min Values: 0
Max Values: 5582202
Mean Values: 759.1090630770237
Standard Deviation Values: 17420.630511163938
Object ID Field:
Fields:
None
Default Mosaic Method: Center
Allowed Mosaic Methods:
SortField:
SortValue: null
Mosaic Operator: First
Default Compression Quality: 75
Default Resampling Method: Bilinear
Max Record Count: null
Max Image Height: 4100
Max Image Width: 15000
Max Download Image Count: null
Max Mosaic Image Count: null
Allow Raster Function: true
Allow Copy: true
Allow Analysis: true
Allow Compute TiePoints: false
Supports Statistics: false
Supports Advanced Queries: false
Use StandardizedQueries: true
Raster Type Infos:
Name: Raster Dataset
Description: Supports all ArcGIS Raster Datasets
Help:
Has Raster Attribute Table: false
Edit Fields Info: null
Ownership Based AccessControl For Rasters: null
Child Resources:
Info
Histograms
Statistics
Key Properties
Legend
Raster Function Infos
Supported Operations:
Export Image
Identify
Measure
Compute Histograms
Compute Statistics Histograms
Get Samples
Compute Class Statistics
Query Boundary
Compute Pixel Location
Compute Angles
Validate
Project